BEGIN:VCALENDAR
VERSION:2.0
PRODID:-// - ECPv5.3.1.1//NONSGML v1.0//EN
CALSCALE:GREGORIAN
METHOD:PUBLISH
X-ORIGINAL-URL:https://mulberrytreemilton.com.au
X-WR-CALDESC:Events for 
BEGIN:VTIMEZONE
TZID:Australia/Sydney
BEGIN:STANDARD
TZOFFSETFROM:+1100
TZOFFSETTO:+1000
TZNAME:AEST
DTSTART:20190406T160000
END:STANDARD
BEGIN:DAYLIGHT
TZOFFSETFROM:+1000
TZOFFSETTO:+1100
TZNAME:AEDT
DTSTART:20191005T160000
END:DAYLIGHT
END:VTIMEZONE
BEGIN:VEVENT
DTSTART;TZID=Australia/Sydney:20190518T100000
DTEND;TZID=Australia/Sydney:20190519T160000
DTSTAMP:20210302T012003
CREATED:20170806T121719Z
LAST-MODIFIED:20190219T091455Z
UID:1042-1558173600-1558281600@mulberrytreemilton.com.au
SUMMARY:My Flower Bloom/Damask Quilt Workshop
DESCRIPTION:Join Janeene Scott from Passionately Sewn\, in a two-day workshop where you will cut and piece the quilt background\, learn about making templates\, cutting fabric\, types of thread\, needles and accurate 1/4″ piecing.\nThen\, you will start on the fusible applique’ process\, learning how to use large applique’ pieces\, setting out your design\, fusing and then sewing the pieces onto your background fabric.\n10am-4pm each day. \n50% Deposit on Booking\nApply here
URL:https://mulberrytreemilton.com.au/event/my-flower-bloom-quilt-workshop/
LOCATION:Milton CWA Hall\, 55 Wason St\, Milton\, NSW\, 2538\, Australia
CATEGORIES:Scheduled Workshops
END:VEVENT
END:VCALENDAR