BEGIN:VCALENDAR
VERSION:2.0
PRODID:-// - ECPv5.3.1.1//NONSGML v1.0//EN
CALSCALE:GREGORIAN
METHOD:PUBLISH
X-ORIGINAL-URL:https://mulberrytreemilton.com.au
X-WR-CALDESC:Events for 
BEGIN:VTIMEZONE
TZID:Australia/Sydney
BEGIN:STANDARD
TZOFFSETFROM:+1100
TZOFFSETTO:+1000
TZNAME:AEST
DTSTART:20180331T160000
END:STANDARD
BEGIN:DAYLIGHT
TZOFFSETFROM:+1000
TZOFFSETTO:+1100
TZNAME:AEDT
DTSTART:20181006T160000
END:DAYLIGHT
END:VTIMEZONE
BEGIN:VEVENT
DTSTART;TZID=Australia/Sydney:20180310T100000
DTEND;TZID=Australia/Sydney:20180310T160000
DTSTAMP:20210302T012058
CREATED:20170806T115004Z
LAST-MODIFIED:20180119T071742Z
UID:1028-1520676000-1520697600@mulberrytreemilton.com.au
SUMMARY:My Machine Quilting Workshop
DESCRIPTION:Join Janeene Scott from ‘Passionately Sewn’ in a one day workshop where she will be teaching new machine-quilting skills and techniques or assisting you in brushing up on forgotten skills.\nAlso\, learn about sewing machine set up\, thread options\, the best types of fabrics and needles to use for machine-quilting and more.\n\nApply here
URL:https://mulberrytreemilton.com.au/event/my-machine-quilting-workshop/
LOCATION:Milton CWA Hall\, 55 Wason St\, Milton\, NSW\, 2538\, Australia
CATEGORIES:Scheduled Workshops
END:VEVENT
END:VCALENDAR